Package: SIM Version: 1.68.0 Command: rm -rf SIM.buildbin-libdir && mkdir SIM.buildbin-libdir && /Users/biocbuild/BBS/utils/build-universal.sh SIM_1.68.0.tar.gz /Library/Frameworks/R.framework/Resources/bin/R SIM.buildbin-libdir StartedAt: 2023-04-18 19:35:57 -0400 (Tue, 18 Apr 2023) EndedAt: 2023-04-18 19:36:50 -0400 (Tue, 18 Apr 2023) EllapsedTime: 53.5 seconds RetCode: 0 Status: OK PackageFile: SIM_1.68.0.tgz PackageFileSize: 614.2 KiB