Package: SIM Version: 1.68.0 Command: /Library/Frameworks/R.framework/Resources/bin/R CMD build --keep-empty-dirs --no-resave-data SIM StartedAt: 2023-04-18 07:40:05 -0400 (Tue, 18 Apr 2023) EndedAt: 2023-04-18 07:40:59 -0400 (Tue, 18 Apr 2023) EllapsedTime: 54.9 seconds RetCode: 0 Status: OK PackageFile: SIM_1.68.0.tar.gz PackageFileSize: 460.8 KiB