Package: SIM Version: 1.68.0 Command: /Library/Frameworks/R.framework/Resources/bin/R CMD INSTALL SIM StartedAt: 2023-04-16 18:03:04 -0400 (Sun, 16 Apr 2023) EndedAt: 2023-04-16 18:03:44 -0400 (Sun, 16 Apr 2023) EllapsedTime: 40.0 seconds RetCode: 0 Status: OK