Package: SMAP Version: 1.62.0 Command: /Library/Frameworks/R.framework/Resources/bin/R CMD build --keep-empty-dirs --no-resave-data SMAP StartedAt: 2023-04-18 08:13:06 -0400 (Tue, 18 Apr 2023) EndedAt: 2023-04-18 08:13:29 -0400 (Tue, 18 Apr 2023) EllapsedTime: 22.9 seconds RetCode: 0 Status: OK PackageFile: SMAP_1.62.0.tar.gz PackageFileSize: 4.375 MiB