Package: SPIA Version: 2.50.0 Command: /Library/Frameworks/R.framework/Resources/bin/R CMD build --keep-empty-dirs --no-resave-data SPIA StartedAt: 2023-04-18 08:45:33 -0400 (Tue, 18 Apr 2023) EndedAt: 2023-04-18 08:52:03 -0400 (Tue, 18 Apr 2023) EllapsedTime: 389.9 seconds RetCode: 0 Status: OK PackageFile: SPIA_2.50.0.tar.gz PackageFileSize: 2.549 MiB