Package: SPOTlight Version: 1.2.0 Command: /Library/Frameworks/R.framework/Resources/bin/R CMD build --keep-empty-dirs --no-resave-data SPOTlight StartedAt: 2023-04-18 09:12:43 -0400 (Tue, 18 Apr 2023) EndedAt: 2023-04-18 09:16:02 -0400 (Tue, 18 Apr 2023) EllapsedTime: 198.6 seconds RetCode: 0 Status: OK PackageFile: SPOTlight_1.2.0.tar.gz PackageFileSize: 3.25 MiB