Package: SQUADD Version: 1.48.0 Command: /Library/Frameworks/R.framework/Resources/bin/R CMD INSTALL SQUADD StartedAt: 2023-04-16 14:12:03 -0400 (Sun, 16 Apr 2023) EndedAt: 2023-04-16 14:12:06 -0400 (Sun, 16 Apr 2023) EllapsedTime: 3.7 seconds RetCode: 0 Status: OK