Package: STATegRa Version: 1.34.0 Command: /Library/Frameworks/R.framework/Resources/bin/R CMD build --keep-empty-dirs --no-resave-data STATegRa StartedAt: 2023-04-18 09:32:31 -0400 (Tue, 18 Apr 2023) EndedAt: 2023-04-18 09:35:06 -0400 (Tue, 18 Apr 2023) EllapsedTime: 155.0 seconds RetCode: 0 Status: OK PackageFile: STATegRa_1.34.0.tar.gz PackageFileSize: 4.812 MiB