Package: STATegRa Version: 1.34.0 Command: /Library/Frameworks/R.framework/Resources/bin/R CMD INSTALL STATegRa StartedAt: 2023-04-16 14:40:08 -0400 (Sun, 16 Apr 2023) EndedAt: 2023-04-16 14:40:28 -0400 (Sun, 16 Apr 2023) EllapsedTime: 20.1 seconds RetCode: 0 Status: OK