Back to Mac ARM64 build report for BioC 3.16 |
|
This page was generated on 2023-04-19 11:01:52 -0400 (Wed, 19 Apr 2023).
Hostname | OS | Arch (*) | R version | Installed pkgs |
---|---|---|---|---|
kjohnson | macOS 13.0 Ventura | arm64 | 4.2.2 (2022-10-31) -- "Innocent and Trusting" | 4256 |
Click on any hostname to see more info about the system (e.g. compilers) (*) as reported by 'uname -p', except on Windows and Mac OS X |
To the developers/maintainers of the ShortRead package: Make sure to use the following settings in order to reproduce any error or warning you see on this page. |
Package 1861/2183 | Hostname | OS / Arch | INSTALL | BUILD | BUILD BIN | ||||||||
ShortRead 1.56.1 (landing page) Bioconductor Package Maintainer
| kjohnson | macOS 13.0 Ventura / arm64 | OK | OK | OK | ||||||||
QUICK STATS | OS / Arch | INSTALL | BUILD | BUILD BIN | |||||||||||||
kjohnson | macOS 13.0 Ventura / arm64 |
|
|
| |||||||||||||
Package 1/29 | Hostname | OS / Arch | INSTALL | BUILD | BUILD BIN | ||||||||||||
amplican 1.20.0 (landing page) Eivind Valen
| kjohnson | macOS 13.0 Ventura / arm64 | OK | OK | OK | ||||||||||||
Package 2/29 | Hostname | OS / Arch | INSTALL | BUILD | BUILD BIN | ||||||||||||
ArrayExpressHTS 1.48.0 (landing page) Angela Goncalves
| kjohnson | macOS 13.0 Ventura / arm64 | ERROR | ERROR | skipped | ||||||||||||
Package 3/29 | Hostname | OS / Arch | INSTALL | BUILD | BUILD BIN | ||||||||||||
basecallQC 1.22.0 (landing page) Thomas Carroll
| kjohnson | macOS 13.0 Ventura / arm64 | OK | OK | OK | ||||||||||||
Package 4/29 | Hostname | OS / Arch | INSTALL | BUILD | BUILD BIN | ||||||||||||
BEAT 1.36.0 (landing page) Kemal Akman
| kjohnson | macOS 13.0 Ventura / arm64 | OK | OK | OK | ||||||||||||
Package 5/29 | Hostname | OS / Arch | INSTALL | BUILD | BUILD BIN | ||||||||||||
CellBarcode 1.4.0 (landing page) Wenjie Sun
| kjohnson | macOS 13.0 Ventura / arm64 | OK | OK | OK | ||||||||||||
Package 6/29 | Hostname | OS / Arch | INSTALL | BUILD | BUILD BIN | ||||||||||||
chipseq 1.48.0 (landing page) Bioconductor Package Maintainer
| kjohnson | macOS 13.0 Ventura / arm64 | OK | OK | OK | ||||||||||||
Package 7/29 | Hostname | OS / Arch | INSTALL | BUILD | BUILD BIN | ||||||||||||
ChIPseqR 1.52.0 (landing page) Peter Humburg
| kjohnson | macOS 13.0 Ventura / arm64 | OK | OK | OK | ||||||||||||
Package 8/29 | Hostname | OS / Arch | INSTALL | BUILD | BUILD BIN | ||||||||||||
ChIPsim 1.52.0 (landing page) Peter Humburg
| kjohnson | macOS 13.0 Ventura / arm64 | OK | OK | OK | ||||||||||||
Package 9/29 | Hostname | OS / Arch | INSTALL | BUILD | BUILD BIN | ||||||||||||
CircSeqAlignTk 1.0.0 (landing page) Jianqiang Sun
| kjohnson | macOS 13.0 Ventura / arm64 | OK | OK | OK | ||||||||||||
Package 10/29 | Hostname | OS / Arch | INSTALL | BUILD | BUILD BIN | ||||||||||||
dada2 1.26.0 (landing page) Benjamin Callahan
| kjohnson | macOS 13.0 Ventura / arm64 | OK | OK | OK | ||||||||||||
Package 11/29 | Hostname | OS / Arch | INSTALL | BUILD | BUILD BIN | ||||||||||||
easyRNASeq 2.34.0 (landing page) Nicolas Delhomme
| kjohnson | macOS 13.0 Ventura / arm64 | OK | OK | OK | ||||||||||||
Package 12/29 | Hostname | OS / Arch | INSTALL | BUILD | BUILD BIN | ||||||||||||
EDASeq 2.32.0 (landing page) Davide Risso
| kjohnson | macOS 13.0 Ventura / arm64 | OK | OK | OK | ||||||||||||
Package 13/29 | Hostname | OS / Arch | INSTALL | BUILD | BUILD BIN | ||||||||||||
esATAC 1.20.0 (landing page) Zheng Wei
| kjohnson | macOS 13.0 Ventura / arm64 | OK | OK | OK | ||||||||||||
Package 14/29 | Hostname | OS / Arch | INSTALL | BUILD | BUILD BIN | ||||||||||||
FastqCleaner 1.16.1 (landing page) Leandro Roser
| kjohnson | macOS 13.0 Ventura / arm64 | OK | OK | OK | ||||||||||||
Package 15/29 | Hostname | OS / Arch | INSTALL | BUILD | BUILD BIN | ||||||||||||
girafe 1.50.0 (landing page) J. Toedling
| kjohnson | macOS 13.0 Ventura / arm64 | OK | OK | OK | ||||||||||||
Package 16/29 | Hostname | OS / Arch | INSTALL | BUILD | BUILD BIN | ||||||||||||
GOTHiC 1.34.0 (landing page) Borbala Mifsud
| kjohnson | macOS 13.0 Ventura / arm64 | OK | OK | OK | ||||||||||||
Package 17/29 | Hostname | OS / Arch | INSTALL | BUILD | BUILD BIN | ||||||||||||
icetea 1.16.0 (landing page) Vivek Bhardwaj
| kjohnson | macOS 13.0 Ventura / arm64 | OK | OK | OK | ||||||||||||
Package 18/29 | Hostname | OS / Arch | INSTALL | BUILD | BUILD BIN | ||||||||||||
IONiseR 2.22.0 (landing page) Mike Smith
| kjohnson | macOS 13.0 Ventura / arm64 | OK | OK | OK | ||||||||||||
Package 19/29 | Hostname | OS / Arch | INSTALL | BUILD | BUILD BIN | ||||||||||||
Ioannis Vardaxis
| kjohnson | macOS 13.0 Ventura / arm64 | ERROR | ERROR | skipped | ||||||||||||
Package 20/29 | Hostname | OS / Arch | INSTALL | BUILD | BUILD BIN | ||||||||||||
nucleR 2.30.0 (landing page) Alba Sala
| kjohnson | macOS 13.0 Ventura / arm64 | OK | OK | OK | ||||||||||||
Package 21/29 | Hostname | OS / Arch | INSTALL | BUILD | BUILD BIN | ||||||||||||
OTUbase 1.48.0 (landing page) Daniel Beck
| kjohnson | macOS 13.0 Ventura / arm64 | OK | OK | OK | ||||||||||||
Package 22/29 | Hostname | OS / Arch | INSTALL | BUILD | BUILD BIN | ||||||||||||
QuasR 1.38.0 (landing page) Michael Stadler
| kjohnson | macOS 13.0 Ventura / arm64 | OK | OK | OK | ||||||||||||
Package 23/29 | Hostname | OS / Arch | INSTALL | BUILD | BUILD BIN | ||||||||||||
R453Plus1Toolbox 1.48.0 (landing page) Hans-Ulrich Klein
| kjohnson | macOS 13.0 Ventura / arm64 | OK | OK | OK | ||||||||||||
Package 24/29 | Hostname | OS / Arch | INSTALL | BUILD | BUILD BIN | ||||||||||||
Rqc 1.32.0 (landing page) Welliton Souza
| kjohnson | macOS 13.0 Ventura / arm64 | OK | OK | OK | ||||||||||||
Package 25/29 | Hostname | OS / Arch | INSTALL | BUILD | BUILD BIN | ||||||||||||
RSVSim 1.38.0 (landing page) Christoph Bartenhagen
| kjohnson | macOS 13.0 Ventura / arm64 | OK | OK | OK | ||||||||||||
Package 26/29 | Hostname | OS / Arch | INSTALL | BUILD | BUILD BIN | ||||||||||||
scruff 1.16.0 (landing page) Zhe Wang
| kjohnson | macOS 13.0 Ventura / arm64 | OK | OK | OK | ||||||||||||
Package 27/29 | Hostname | OS / Arch | INSTALL | BUILD | BUILD BIN | ||||||||||||
segmentSeq 2.32.0 (landing page) Thomas J. Hardcastle
| kjohnson | macOS 13.0 Ventura / arm64 | OK | OK | OK | ||||||||||||
Package 28/29 | Hostname | OS / Arch | INSTALL | BUILD | BUILD BIN | ||||||||||||
systemPipeR 2.4.0 (landing page) Thomas Girke
| kjohnson | macOS 13.0 Ventura / arm64 | OK | OK | OK | ||||||||||||
Package 29/29 | Hostname | OS / Arch | INSTALL | BUILD | BUILD BIN | ||||||||||||
UMI4Cats 1.8.1 (landing page) Mireia Ramos-Rodriguez
| kjohnson | macOS 13.0 Ventura / arm64 | OK | OK | OK | ||||||||||||