Package: ShortRead Version: 1.56.1 Command: rm -rf ShortRead.buildbin-libdir && mkdir ShortRead.buildbin-libdir && /Users/biocbuild/BBS/utils/build-universal.sh ShortRead_1.56.1.tar.gz /Library/Frameworks/R.framework/Resources/bin/R ShortRead.buildbin-libdir StartedAt: 2023-04-18 19:33:12 -0400 (Tue, 18 Apr 2023) EndedAt: 2023-04-18 19:35:20 -0400 (Tue, 18 Apr 2023) EllapsedTime: 128.7 seconds RetCode: 0 Status: OK PackageFile: ShortRead_1.56.1.tgz PackageFileSize: 5.396 MiB