Package: ShortRead Version: 1.56.1 Command: /Library/Frameworks/R.framework/Resources/bin/R CMD build --keep-empty-dirs --no-resave-data ShortRead StartedAt: 2023-04-18 07:23:29 -0400 (Tue, 18 Apr 2023) EndedAt: 2023-04-18 07:24:56 -0400 (Tue, 18 Apr 2023) EllapsedTime: 86.6 seconds RetCode: 0 Status: OK PackageFile: ShortRead_1.56.1.tar.gz PackageFileSize: 4.985 MiB