git_url: https://git.bioconductor.org/packages/SimFFPE git_branch: RELEASE_3_16 git_last_commit: dd10988 git_last_commit_date: 2022-11-01 11:21:13 -0400 (Tue, 01 Nov 2022) Package: SimFFPE Version: 1.10.0 Maintainer: Lanying Wei MaintainerEmail: lanying.wei at uni-muenster.de