Package: SimFFPE Version: 1.10.0 Command: /Library/Frameworks/R.framework/Resources/bin/R CMD build --keep-empty-dirs --no-resave-data SimFFPE StartedAt: 2023-04-18 07:42:14 -0400 (Tue, 18 Apr 2023) EndedAt: 2023-04-18 07:44:42 -0400 (Tue, 18 Apr 2023) EllapsedTime: 148.1 seconds RetCode: 0 Status: OK PackageFile: SimFFPE_1.10.0.tar.gz PackageFileSize: 749.1 KiB