Package: SpacePAC Version: 1.36.0 Command: /Library/Frameworks/R.framework/Resources/bin/R CMD INSTALL SpacePAC StartedAt: 2023-04-16 14:57:20 -0400 (Sun, 16 Apr 2023) EndedAt: 2023-04-16 14:57:43 -0400 (Sun, 16 Apr 2023) EllapsedTime: 23.1 seconds RetCode: 0 Status: OK