Package: SparseSignatures Version: 2.8.0 Command: /Library/Frameworks/R.framework/Resources/bin/R CMD build --keep-empty-dirs --no-resave-data SparseSignatures StartedAt: 2023-04-18 08:29:24 -0400 (Tue, 18 Apr 2023) EndedAt: 2023-04-18 08:34:00 -0400 (Tue, 18 Apr 2023) EllapsedTime: 275.8 seconds RetCode: 0 Status: OK PackageFile: SparseSignatures_2.8.0.tar.gz PackageFileSize: 985 KiB