Package: SpatialCPie Version: 1.14.0 Command: /Library/Frameworks/R.framework/Resources/bin/R CMD build --keep-empty-dirs --no-resave-data SpatialCPie StartedAt: 2023-04-18 08:34:00 -0400 (Tue, 18 Apr 2023) EndedAt: 2023-04-18 08:34:57 -0400 (Tue, 18 Apr 2023) EllapsedTime: 56.9 seconds RetCode: 0 Status: OK PackageFile: SpatialCPie_1.14.0.tar.gz PackageFileSize: 1009 KiB