Package: SpatialCPie Version: 1.14.0 Command: /Library/Frameworks/R.framework/Resources/bin/R CMD INSTALL SpatialCPie StartedAt: 2023-04-16 15:43:52 -0400 (Sun, 16 Apr 2023) EndedAt: 2023-04-16 15:44:32 -0400 (Sun, 16 Apr 2023) EllapsedTime: 40.0 seconds RetCode: 0 Status: OK