Package: SpeCond
Version: 1.52.0
Command: /Library/Frameworks/R.framework/Resources/bin/R CMD build --keep-empty-dirs --no-resave-data SpeCond
StartedAt: 2023-04-18 08:42:42 -0400 (Tue, 18 Apr 2023)
EndedAt: 2023-04-18 08:44:00 -0400 (Tue, 18 Apr 2023)
EllapsedTime: 78.0 seconds
RetCode: 0
Status: OK
PackageFile: SpeCond_1.52.0.tar.gz
PackageFileSize: 1.699 <A href="http://en.wikipedia.org/wiki/MiB" target="_blank">MiB</A>