Package: Spectra Version: 1.8.3 Command: rm -rf Spectra.buildbin-libdir && mkdir Spectra.buildbin-libdir && /Users/biocbuild/BBS/utils/build-universal.sh Spectra_1.8.3.tar.gz /Library/Frameworks/R.framework/Resources/bin/R Spectra.buildbin-libdir StartedAt: 2023-04-18 19:48:38 -0400 (Tue, 18 Apr 2023) EndedAt: 2023-04-18 19:49:17 -0400 (Tue, 18 Apr 2023) EllapsedTime: 39.4 seconds RetCode: 0 Status: OK PackageFile: Spectra_1.8.3.tgz PackageFileSize: 1.226 MiB