Package: Spectra Version: 1.8.3 Command: /Library/Frameworks/R.framework/Resources/bin/R CMD build --keep-empty-dirs --no-resave-data Spectra StartedAt: 2023-04-18 08:44:00 -0400 (Tue, 18 Apr 2023) EndedAt: 2023-04-18 08:44:50 -0400 (Tue, 18 Apr 2023) EllapsedTime: 50.3 seconds RetCode: 0 Status: OK PackageFile: Spectra_1.8.3.tar.gz PackageFileSize: 766.8 KiB