Package: SummarizedExperiment Version: 1.28.0 Command: /Library/Frameworks/R.framework/Resources/bin/R CMD build --keep-empty-dirs --no-resave-data SummarizedExperiment StartedAt: 2023-04-18 09:54:58 -0400 (Tue, 18 Apr 2023) EndedAt: 2023-04-18 09:56:04 -0400 (Tue, 18 Apr 2023) EllapsedTime: 66.7 seconds RetCode: 0 Status: OK PackageFile: SummarizedExperiment_1.28.0.tar.gz PackageFileSize: 1.456 MiB