Package: SummarizedExperiment Version: 1.28.0 Command: /Library/Frameworks/R.framework/Resources/bin/R CMD INSTALL SummarizedExperiment StartedAt: 2023-04-16 14:46:34 -0400 (Sun, 16 Apr 2023) EndedAt: 2023-04-16 14:47:21 -0400 (Sun, 16 Apr 2023) EllapsedTime: 47.1 seconds RetCode: 0 Status: OK