Package: TCseq Version: 1.22.6 Command: rm -rf TCseq.buildbin-libdir && mkdir TCseq.buildbin-libdir && /Users/biocbuild/BBS/utils/build-universal.sh TCseq_1.22.6.tar.gz /Library/Frameworks/R.framework/Resources/bin/R TCseq.buildbin-libdir StartedAt: 2023-04-18 20:04:51 -0400 (Tue, 18 Apr 2023) EndedAt: 2023-04-18 20:06:04 -0400 (Tue, 18 Apr 2023) EllapsedTime: 73.3 seconds RetCode: 0 Status: OK PackageFile: TCseq_1.22.6.tgz PackageFileSize: 836.5 KiB