Package: TCseq Version: 1.22.6 Command: /Library/Frameworks/R.framework/Resources/bin/R CMD build --keep-empty-dirs --no-resave-data TCseq StartedAt: 2023-04-18 10:23:53 -0400 (Tue, 18 Apr 2023) EndedAt: 2023-04-18 10:24:45 -0400 (Tue, 18 Apr 2023) EllapsedTime: 52.1 seconds RetCode: 0 Status: OK PackageFile: TCseq_1.22.6.tar.gz PackageFileSize: 1.114 MiB