Package: TENxIO Version: 1.0.1 Command: /Library/Frameworks/R.framework/Resources/bin/R CMD build --keep-empty-dirs --no-resave-data TENxIO StartedAt: 2023-04-18 10:27:00 -0400 (Tue, 18 Apr 2023) EndedAt: 2023-04-18 10:27:57 -0400 (Tue, 18 Apr 2023) EllapsedTime: 57.5 seconds RetCode: 0 Status: OK PackageFile: TENxIO_1.0.1.tar.gz PackageFileSize: 253.8 KiB