Package: TENxIO Version: 1.0.1 Command: /Library/Frameworks/R.framework/Resources/bin/R CMD INSTALL TENxIO StartedAt: 2023-04-16 15:29:47 -0400 (Sun, 16 Apr 2023) EndedAt: 2023-04-16 15:30:30 -0400 (Sun, 16 Apr 2023) EllapsedTime: 42.5 seconds RetCode: 0 Status: OK