Package: TFEA.ChIP Version: 1.18.0 Command: /Library/Frameworks/R.framework/Resources/bin/R CMD INSTALL TFEA.ChIP StartedAt: 2023-04-16 16:19:32 -0400 (Sun, 16 Apr 2023) EndedAt: 2023-04-16 16:20:25 -0400 (Sun, 16 Apr 2023) EllapsedTime: 52.6 seconds RetCode: 0 Status: OK