Package: TileDBArray Version: 1.8.0 Command: /Library/Frameworks/R.framework/Resources/bin/R CMD build --keep-empty-dirs --no-resave-data TileDBArray StartedAt: 2023-04-18 10:49:14 -0400 (Tue, 18 Apr 2023) EndedAt: 2023-04-18 10:49:58 -0400 (Tue, 18 Apr 2023) EllapsedTime: 44.0 seconds RetCode: 0 Status: OK PackageFile: TileDBArray_1.8.0.tar.gz PackageFileSize: 291.6 KiB