Package: a4Classif
Version: 1.46.0
Command: rm -rf a4Classif.buildbin-libdir && mkdir a4Classif.buildbin-libdir && /Users/biocbuild/BBS/utils/build-universal.sh a4Classif_1.46.0.tar.gz /Library/Frameworks/R.framework/Resources/bin/R a4Classif.buildbin-libdir
StartedAt: 2023-04-18 13:26:36 -0400 (Tue, 18 Apr 2023)
EndedAt: 2023-04-18 13:26:54 -0400 (Tue, 18 Apr 2023)
EllapsedTime: 18.8 seconds
RetCode: 0
Status: OK
PackageFile: a4Classif_1.46.0.tgz
PackageFileSize: 575.2 <A href="http://en.wikipedia.org/wiki/KiB" target="_blank">KiB</A>