Package: a4Preproc Version: 1.46.0 Command: rm -rf a4Preproc.buildbin-libdir && mkdir a4Preproc.buildbin-libdir && /Users/biocbuild/BBS/utils/build-universal.sh a4Preproc_1.46.0.tar.gz /Library/Frameworks/R.framework/Resources/bin/R a4Preproc.buildbin-libdir StartedAt: 2023-04-18 13:26:36 -0400 (Tue, 18 Apr 2023) EndedAt: 2023-04-18 13:26:45 -0400 (Tue, 18 Apr 2023) EllapsedTime: 8.8 seconds RetCode: 0 Status: OK PackageFile: a4Preproc_1.46.0.tgz PackageFileSize: 280.2 KiB