Package: a4Preproc Version: 1.46.0 Command: /Library/Frameworks/R.framework/Resources/bin/R CMD build --keep-empty-dirs --no-resave-data a4Preproc StartedAt: 2023-04-16 19:06:38 -0400 (Sun, 16 Apr 2023) EndedAt: 2023-04-16 19:06:51 -0400 (Sun, 16 Apr 2023) EllapsedTime: 12.8 seconds RetCode: 0 Status: OK PackageFile: a4Preproc_1.46.0.tar.gz PackageFileSize: 273.6 KiB