Package: a4Preproc Version: 1.46.0 Command: /Library/Frameworks/R.framework/Resources/bin/R CMD INSTALL a4Preproc StartedAt: 2023-04-16 14:35:56 -0400 (Sun, 16 Apr 2023) EndedAt: 2023-04-16 14:36:00 -0400 (Sun, 16 Apr 2023) EllapsedTime: 4.4 seconds RetCode: 0 Status: OK