Package: acde Version: 1.28.0 Command: rm -rf acde.buildbin-libdir && mkdir acde.buildbin-libdir && /Users/biocbuild/BBS/utils/build-universal.sh acde_1.28.0.tar.gz /Library/Frameworks/R.framework/Resources/bin/R acde.buildbin-libdir StartedAt: 2023-04-18 13:26:55 -0400 (Tue, 18 Apr 2023) EndedAt: 2023-04-18 13:27:07 -0400 (Tue, 18 Apr 2023) EllapsedTime: 12.1 seconds RetCode: 0 Status: OK PackageFile: acde_1.28.0.tgz PackageFileSize: 8.174 MiB