Package: acde Version: 1.28.0 Command: /Library/Frameworks/R.framework/Resources/bin/R CMD build --keep-empty-dirs --no-resave-data acde StartedAt: 2023-04-16 19:10:18 -0400 (Sun, 16 Apr 2023) EndedAt: 2023-04-16 19:10:39 -0400 (Sun, 16 Apr 2023) EllapsedTime: 20.9 seconds RetCode: 0 Status: OK PackageFile: acde_1.28.0.tar.gz PackageFileSize: 8.876 MiB