Package: acde Version: 1.28.0 Command: /Library/Frameworks/R.framework/Resources/bin/R CMD INSTALL acde StartedAt: 2023-04-16 14:07:52 -0400 (Sun, 16 Apr 2023) EndedAt: 2023-04-16 14:07:57 -0400 (Sun, 16 Apr 2023) EllapsedTime: 4.5 seconds RetCode: 0 Status: OK