Package: annaffy Version: 1.70.0 Command: /Library/Frameworks/R.framework/Resources/bin/R CMD build --keep-empty-dirs --no-resave-data annaffy StartedAt: 2023-04-16 19:42:32 -0400 (Sun, 16 Apr 2023) EndedAt: 2023-04-16 19:43:09 -0400 (Sun, 16 Apr 2023) EllapsedTime: 36.9 seconds RetCode: 0 Status: OK PackageFile: annaffy_1.70.0.tar.gz PackageFileSize: 314 KiB