Package: annmap Version: 1.40.0 Command: /Library/Frameworks/R.framework/Resources/bin/R CMD INSTALL annmap StartedAt: 2023-04-16 17:47:22 -0400 (Sun, 16 Apr 2023) EndedAt: 2023-04-16 17:48:02 -0400 (Sun, 16 Apr 2023) EllapsedTime: 39.7 seconds RetCode: 0 Status: OK