git_url: https://git.bioconductor.org/packages/annotate git_branch: RELEASE_3_16 git_last_commit: 0181d5c git_last_commit_date: 2022-11-01 10:34:51 -0400 (Tue, 01 Nov 2022) Package: annotate Version: 1.76.0 Maintainer: Bioconductor Package Maintainer MaintainerEmail: maintainer at bioconductor.org