Package: annotate Version: 1.76.0 Command: rm -rf annotate.buildbin-libdir && mkdir annotate.buildbin-libdir && /Users/biocbuild/BBS/utils/build-universal.sh annotate_1.76.0.tar.gz /Library/Frameworks/R.framework/Resources/bin/R annotate.buildbin-libdir StartedAt: 2023-04-18 13:34:10 -0400 (Tue, 18 Apr 2023) EndedAt: 2023-04-18 13:34:56 -0400 (Tue, 18 Apr 2023) EllapsedTime: 45.9 seconds RetCode: 0 Status: OK PackageFile: annotate_1.76.0.tgz PackageFileSize: 1.821 MiB