Package: annotate Version: 1.76.0 Command: /Library/Frameworks/R.framework/Resources/bin/R CMD build --keep-empty-dirs --no-resave-data annotate StartedAt: 2023-04-16 19:43:45 -0400 (Sun, 16 Apr 2023) EndedAt: 2023-04-16 19:45:24 -0400 (Sun, 16 Apr 2023) EllapsedTime: 98.3 seconds RetCode: 0 Status: OK PackageFile: annotate_1.76.0.tar.gz PackageFileSize: 1.52 MiB