Package: annotate Version: 1.76.0 Command: /Library/Frameworks/R.framework/Resources/bin/R CMD INSTALL annotate StartedAt: 2023-04-16 17:25:54 -0400 (Sun, 16 Apr 2023) EndedAt: 2023-04-16 17:26:25 -0400 (Sun, 16 Apr 2023) EllapsedTime: 30.8 seconds RetCode: 0 Status: OK