Package: apComplex Version: 2.64.0 Command: /Library/Frameworks/R.framework/Resources/bin/R CMD build --keep-empty-dirs --no-resave-data apComplex StartedAt: 2023-04-16 19:57:26 -0400 (Sun, 16 Apr 2023) EndedAt: 2023-04-16 19:57:55 -0400 (Sun, 16 Apr 2023) EllapsedTime: 28.2 seconds RetCode: 0 Status: OK PackageFile: apComplex_2.64.0.tar.gz PackageFileSize: 627.3 KiB