Package: arrayMvout Version: 1.56.0 Command: rm -rf arrayMvout.buildbin-libdir && mkdir arrayMvout.buildbin-libdir && /Users/biocbuild/BBS/utils/build-universal.sh arrayMvout_1.56.0.tar.gz /Library/Frameworks/R.framework/Resources/bin/R arrayMvout.buildbin-libdir StartedAt: 2023-04-18 13:37:00 -0400 (Tue, 18 Apr 2023) EndedAt: 2023-04-18 13:39:24 -0400 (Tue, 18 Apr 2023) EllapsedTime: 144.3 seconds RetCode: 0 Status: OK PackageFile: arrayMvout_1.56.0.tgz PackageFileSize: 844.1 KiB