Package: batchelor Version: 1.14.1 Command: rm -rf batchelor.buildbin-libdir && mkdir batchelor.buildbin-libdir && /Users/biocbuild/BBS/utils/build-universal.sh batchelor_1.14.1.tar.gz /Library/Frameworks/R.framework/Resources/bin/R batchelor.buildbin-libdir StartedAt: 2023-04-18 13:47:45 -0400 (Tue, 18 Apr 2023) EndedAt: 2023-04-18 13:49:46 -0400 (Tue, 18 Apr 2023) EllapsedTime: 121.3 seconds RetCode: 0 Status: OK PackageFile: batchelor_1.14.1.tgz PackageFileSize: 2.109 MiB