Package: batchelor Version: 1.14.1 Command: /Library/Frameworks/R.framework/Resources/bin/R CMD INSTALL batchelor StartedAt: 2023-04-16 17:28:31 -0400 (Sun, 16 Apr 2023) EndedAt: 2023-04-16 17:29:37 -0400 (Sun, 16 Apr 2023) EllapsedTime: 66.8 seconds RetCode: 0 Status: OK