Package: bgx Version: 1.64.0 Command: rm -rf bgx.buildbin-libdir && mkdir bgx.buildbin-libdir && /Users/biocbuild/BBS/utils/build-universal.sh bgx_1.64.0.tar.gz /Library/Frameworks/R.framework/Resources/bin/R bgx.buildbin-libdir StartedAt: 2023-04-18 13:53:06 -0400 (Tue, 18 Apr 2023) EndedAt: 2023-04-18 13:54:32 -0400 (Tue, 18 Apr 2023) EllapsedTime: 86.2 seconds RetCode: 0 Status: OK PackageFile: bgx_1.64.0.tgz PackageFileSize: 388.7 KiB