Package: biodb Version: 1.6.1 Command: rm -rf biodb.buildbin-libdir && mkdir biodb.buildbin-libdir && /Users/biocbuild/BBS/utils/build-universal.sh biodb_1.6.1.tar.gz /Library/Frameworks/R.framework/Resources/bin/R biodb.buildbin-libdir StartedAt: 2023-04-18 13:57:34 -0400 (Tue, 18 Apr 2023) EndedAt: 2023-04-18 14:00:06 -0400 (Tue, 18 Apr 2023) EllapsedTime: 152.5 seconds RetCode: 0 Status: OK PackageFile: biodb_1.6.1.tgz PackageFileSize: 4.331 MiB