Package: biodb Version: 1.6.1 Command: /Library/Frameworks/R.framework/Resources/bin/R CMD build --keep-empty-dirs --no-resave-data biodb StartedAt: 2023-04-16 21:54:37 -0400 (Sun, 16 Apr 2023) EndedAt: 2023-04-16 21:56:16 -0400 (Sun, 16 Apr 2023) EllapsedTime: 98.6 seconds RetCode: 0 Status: OK PackageFile: biodb_1.6.1.tar.gz PackageFileSize: 1.738 MiB