Package: biodbChebi Version: 1.4.0 Command: /Library/Frameworks/R.framework/Resources/bin/R CMD build --keep-empty-dirs --no-resave-data biodbChebi StartedAt: 2023-04-16 21:54:41 -0400 (Sun, 16 Apr 2023) EndedAt: 2023-04-16 21:54:59 -0400 (Sun, 16 Apr 2023) EllapsedTime: 18.8 seconds RetCode: 0 Status: OK PackageFile: biodbChebi_1.4.0.tar.gz PackageFileSize: 297.1 KiB